BEGIN:VCALENDAR
VERSION:2.0
PRODID:-//OAB Blumenau - ECPv4.9.1.1//NONSGML v1.0//EN
CALSCALE:GREGORIAN
METHOD:PUBLISH
X-WR-CALNAME:OAB Blumenau
X-ORIGINAL-URL:https://oab-bnu.org.br
X-WR-CALDESC:Eventos para OAB Blumenau
BEGIN:VEVENT
DTSTART;TZID=America/Sao_Paulo:20251027T180000
DTEND;TZID=America/Sao_Paulo:20251027T190000
DTSTAMP:20260421T172420
CREATED:20250424T151918Z
LAST-MODIFIED:20250424T151918Z
UID:12428-1761588000-1761591600@oab-bnu.org.br
SUMMARY:Reunião Virtual da Comissão de Direito Cooperativo
DESCRIPTION:
URL:https://oab-bnu.org.br/evento/reuniao-virtual-da-comissao-de-direito-cooperativo-7/
END:VEVENT
END:VCALENDAR