BEGIN:VCALENDAR
VERSION:2.0
PRODID:-//OAB Blumenau - ECPv4.9.1.1//NONSGML v1.0//EN
CALSCALE:GREGORIAN
METHOD:PUBLISH
X-WR-CALNAME:OAB Blumenau
X-ORIGINAL-URL:https://oab-bnu.org.br
X-WR-CALDESC:Eventos para OAB Blumenau
BEGIN:VEVENT
DTSTART;TZID=America/Sao_Paulo:20250424T190000
DTEND;TZID=America/Sao_Paulo:20250424T200000
DTSTAMP:20260421T172510
CREATED:20250409T145252Z
LAST-MODIFIED:20250409T145252Z
UID:12036-1745521200-1745524800@oab-bnu.org.br
SUMMARY:Reunião da Comissão de Propriedade Intelectual
DESCRIPTION:
URL:https://oab-bnu.org.br/evento/reuniao-da-comissao-de-propriedade-intelectual/
LOCATION:OAB Blumenau\, Rua dos Advogados 180 - Água Verde\, Blumenau\, Santa Catarina\, 89037505\, Brasil
END:VEVENT
END:VCALENDAR