BEGIN:VCALENDAR
VERSION:2.0
PRODID:-//OAB Blumenau - ECPv4.9.1.1//NONSGML v1.0//EN
CALSCALE:GREGORIAN
METHOD:PUBLISH
X-WR-CALNAME:OAB Blumenau
X-ORIGINAL-URL:https://oab-bnu.org.br
X-WR-CALDESC:Eventos para OAB Blumenau
BEGIN:VEVENT
DTSTART;TZID=America/Sao_Paulo:20250414T190000
DTEND;TZID=America/Sao_Paulo:20250414T200000
DTSTAMP:20260421T172501
CREATED:20250409T144618Z
LAST-MODIFIED:20250409T144618Z
UID:12028-1744657200-1744660800@oab-bnu.org.br
SUMMARY:Reunião da Comissão de Processo Civil
DESCRIPTION:
URL:https://oab-bnu.org.br/evento/reuniao-da-comissao-de-processo-civil-3/
END:VEVENT
END:VCALENDAR