BEGIN:VCALENDAR
VERSION:2.0
PRODID:-//OAB Blumenau - ECPv4.9.1.1//NONSGML v1.0//EN
CALSCALE:GREGORIAN
METHOD:PUBLISH
X-WR-CALNAME:OAB Blumenau
X-ORIGINAL-URL:https://oab-bnu.org.br
X-WR-CALDESC:Eventos para OAB Blumenau
BEGIN:VEVENT
DTSTART;TZID=America/Sao_Paulo:20251218T110000
DTEND;TZID=America/Sao_Paulo:20251218T120000
DTSTAMP:20260421T172415
CREATED:20250317T192534Z
LAST-MODIFIED:20250317T192534Z
UID:11638-1766055600-1766059200@oab-bnu.org.br
SUMMARY:Reunião da Comissão de Direito das Sucessões
DESCRIPTION:
URL:https://oab-bnu.org.br/evento/reuniao-da-comissao-de-direito-das-sucessoes-10/
LOCATION:OAB Blumenau\, Rua dos Advogados 180 - Água Verde\, Blumenau\, Santa Catarina\, 89037505\, Brasil
END:VEVENT
END:VCALENDAR