BEGIN:VCALENDAR
VERSION:2.0
PRODID:-//OAB Blumenau - ECPv4.9.1.1//NONSGML v1.0//EN
CALSCALE:GREGORIAN
METHOD:PUBLISH
X-WR-CALNAME:OAB Blumenau
X-ORIGINAL-URL:https://oab-bnu.org.br
X-WR-CALDESC:Eventos para OAB Blumenau
BEGIN:VEVENT
DTSTART;TZID=America/Sao_Paulo:20250513T170000
DTEND;TZID=America/Sao_Paulo:20250513T180000
DTSTAMP:20260421T043316
CREATED:20250409T151429Z
LAST-MODIFIED:20250409T151429Z
UID:12070-1747155600-1747159200@oab-bnu.org.br
SUMMARY:Reunião da Comissão da Mulher Advogada
DESCRIPTION:
URL:https://oab-bnu.org.br/evento/reuniao-da-comissao-da-mulher-advogada-3/
LOCATION:OAB Blumenau\, Rua dos Advogados 180 - Água Verde\, Blumenau\, Santa Catarina\, 89037505\, Brasil
END:VEVENT
END:VCALENDAR