BEGIN:VCALENDAR
VERSION:2.0
PRODID:-//OAB Blumenau - ECPv4.9.1.1//NONSGML v1.0//EN
CALSCALE:GREGORIAN
METHOD:PUBLISH
X-WR-CALNAME:OAB Blumenau
X-ORIGINAL-URL:https://oab-bnu.org.br
X-WR-CALDESC:Eventos para OAB Blumenau
BEGIN:VEVENT
DTSTART;TZID=America/Sao_Paulo:20251111T090000
DTEND;TZID=America/Sao_Paulo:20251111T103000
DTSTAMP:20260420T234018
CREATED:20250317T125503Z
LAST-MODIFIED:20250317T125503Z
UID:11589-1762851600-1762857000@oab-bnu.org.br
SUMMARY:Reunião Comissão Direito Previdenciário
DESCRIPTION:
URL:https://oab-bnu.org.br/evento/reuniao-comissao-direito-previdenciario-9/
LOCATION:OAB Blumenau\, Rua dos Advogados 180 - Água Verde\, Blumenau\, Santa Catarina\, 89037505\, Brasil
END:VEVENT
END:VCALENDAR