BEGIN:VCALENDAR
VERSION:2.0
PRODID:-//OAB Blumenau - ECPv4.9.1.1//NONSGML v1.0//EN
CALSCALE:GREGORIAN
METHOD:PUBLISH
X-WR-CALNAME:OAB Blumenau
X-ORIGINAL-URL:https://oab-bnu.org.br
X-WR-CALDESC:Eventos para OAB Blumenau
BEGIN:VEVENT
DTSTART;TZID=America/Sao_Paulo:20250626T190000
DTEND;TZID=America/Sao_Paulo:20250626T200000
DTSTAMP:20260420T182912
CREATED:20250313T181840Z
LAST-MODIFIED:20250313T181840Z
UID:11486-1750964400-1750968000@oab-bnu.org.br
SUMMARY:Reunião Comissão de Direito dos Animais
DESCRIPTION:
URL:https://oab-bnu.org.br/evento/reuniao-comissao-de-direito-dos-animais-4/
LOCATION:OAB Blumenau\, Rua dos Advogados 180 - Água Verde\, Blumenau\, Santa Catarina\, 89037505\, Brasil
END:VEVENT
END:VCALENDAR