BEGIN:VCALENDAR
VERSION:2.0
PRODID:-//OAB Blumenau - ECPv4.9.1.1//NONSGML v1.0//EN
CALSCALE:GREGORIAN
METHOD:PUBLISH
X-WR-CALNAME:OAB Blumenau
X-ORIGINAL-URL:https://oab-bnu.org.br
X-WR-CALDESC:Eventos para OAB Blumenau
BEGIN:VEVENT
DTSTART;TZID=America/Sao_Paulo:20250527T190000
DTEND;TZID=America/Sao_Paulo:20250527T200000
DTSTAMP:20260420T183556
CREATED:20250521T184035Z
LAST-MODIFIED:20250521T184046Z
UID:12824-1748372400-1748376000@oab-bnu.org.br
SUMMARY:Descerramento Galeria Ex Presidentes Dr. Rodrigo Eduardo Soethe
DESCRIPTION:
URL:https://oab-bnu.org.br/evento/descerramento-galeria-ex-presidentes-dr-rodrigo-eduardo-soethe/
LOCATION:OAB Blumenau\, Rua dos Advogados 180 - Água Verde\, Blumenau\, Santa Catarina\, 89037505\, Brasil
END:VEVENT
END:VCALENDAR